BEGIN:VCALENDAR
VERSION:2.0
PRODID:spatie/icalendar-generator
DESCRIPTION:Events from Outdoor-Pursuits
X-WR-CALDESC:Events from Outdoor-Pursuits
REFRESH-INTERVAL;VALUE=DURATION:PT1440M
X-PUBLISHED-TTL:PT1440M
BEGIN:VTIMEZONE
TZID:Etc/GMT+0
BEGIN:STANDARD
DTSTART:20240614T180000Z
TZOFFSETFROM:+0000
TZOFFSETTO:+0000
END:STANDARD
END:VTIMEZONE
BEGIN:VTIMEZONE
TZID:UTC
BEGIN:STANDARD
DTSTART:20250726T090824Z
TZOFFSETFROM:+0000
TZOFFSETTO:+0000
END:STANDARD
END:VTIMEZONE
BEGIN:VEVENT
UID:3368-107
DTSTAMP:20260422T090824Z
SUMMARY:International Women's Day Ride
LOCATION:
ORGANIZER;CN=Jeff Stephens:MAILTO:jeff.stephens@outdoor-pursuits.org
DTSTART;TZID=Etc/GMT+0:20250311T180000
DTEND;TZID=Etc/GMT+0:20250311T200000
X-ALT-DESC;FMTTYPE=TEXT/HTML:Join Outdoor Pursuits and Inspryd Movement for
  International Women's Day - Together We Ride for 2025. This is the 6th An
 niversary of this internationally held bike ride. This theme is a Bike Rid
 e for Equality\, Inclusion &amp;amp\; Empowerment. Our ride is scheduled for T
 uesday\, March 11th. The ride will be a causal pace of about&amp;hellip\;
CATEGORIES:All Events
URL;VALUE=URI:https://outdoor-pursuits.org/mc-events/international-womens-d
 ay-ride/
METHOD:PUBLISH
END:VEVENT
END:VCALENDAR