BEGIN:VCALENDAR
VERSION:2.0
PRODID:spatie/icalendar-generator
DESCRIPTION:Events from Outdoor-Pursuits
X-WR-CALDESC:Events from Outdoor-Pursuits
REFRESH-INTERVAL;VALUE=DURATION:PT1440M
X-PUBLISHED-TTL:PT1440M
BEGIN:VTIMEZONE
TZID:Etc/GMT+0
BEGIN:STANDARD
DTSTART:20241022T000000Z
TZOFFSETFROM:+0000
TZOFFSETTO:+0000
END:STANDARD
END:VTIMEZONE
BEGIN:VTIMEZONE
TZID:UTC
BEGIN:STANDARD
DTSTART:20250725T082956Z
TZOFFSETFROM:+0000
TZOFFSETTO:+0000
END:STANDARD
END:VTIMEZONE
BEGIN:VEVENT
UID:3116-61
DTSTAMP:20260421T082956Z
SUMMARY:Hiking - 18 Challenge July Hike
LOCATION:Mohican State Park 3116 OH-3  Loudonville OH 44842
ORGANIZER;CN=Gary Hill:MAILTO:garyvhill@gmail.com
DTSTART;TZID=Etc/GMT+0;VALUE=DATE:20250719
DTEND;TZID=Etc/GMT+0;VALUE=DATE:20250720
X-ALT-DESC;FMTTYPE=TEXT/HTML:Saturday\, July 19th\, 2025 14 miles – Mohic
 an State Park – 3116 OH-3\, Loudonville\, OH 44842 – Group Camp includ
 ed The “18 Challenge” is a monthly series of progressively longer hike
 s that culminate in a challenging 18-mile hike on September 13th at Burr O
 ak. Most hikes are on the 2nd Saturday of the month -&amp;hellip\;
CATEGORIES:All Events
URL;VALUE=URI:https://outdoor-pursuits.org/mc-events/hiking-18-challenge-ju
 ly-hike/
METHOD:PUBLISH
END:VEVENT
END:VCALENDAR