BEGIN:VCALENDAR
VERSION:2.0
PRODID:spatie/icalendar-generator
DESCRIPTION:Events from Outdoor-Pursuits
X-WR-CALDESC:Events from Outdoor-Pursuits
REFRESH-INTERVAL;VALUE=DURATION:PT1440M
X-PUBLISHED-TTL:PT1440M
BEGIN:VTIMEZONE
TZID:Etc/GMT+0
BEGIN:STANDARD
DTSTART:20250730T070000Z
TZOFFSETFROM:+0000
TZOFFSETTO:+0000
END:STANDARD
END:VTIMEZONE
BEGIN:VTIMEZONE
TZID:UTC
BEGIN:STANDARD
DTSTART:20250724T120428Z
TZOFFSETFROM:+0000
TZOFFSETTO:+0000
END:STANDARD
END:VTIMEZONE
BEGIN:VEVENT
UID:5369-55
DTSTAMP:20260420T120428Z
SUMMARY:Sunday 2FGR/JustTri
LOCATION:Scottish Corners Elementary School 5950 Sells Mill Drive Link For 
 those that will drive\, park in the school parking lot Dublin Ohio 43017
ORGANIZER;CN=Gary Hill:MAILTO:garyvhill@gmail.com
RRULE:FREQ=WEEKLY;UNTIL=20260913T000000Z
DTSTART;TZID=Etc/GMT+0:20260426T070000
DTEND;TZID=Etc/GMT+0:20260426T110000
X-ALT-DESC;FMTTYPE=TEXT/HTML:Sunday 2FGR/JustTri Time: 7 AM – April 19 
 – mid-September Pace: B/C Ride (social ride). Expect subgroups based on 
 pace and distance. Meetup Location: Scottish Corners Elementary School. 59
 50 Sells Mill Drive\, Dublin. Link: For those who will drive\, park in the
  school parking lot. Ride Description: Open to riders of all levels. Dista
 nce and&amp;hellip\;
CATEGORIES:Weekly
URL;VALUE=URI:https://outdoor-pursuits.org/mc-events/sunday-2fgr-justtri/?m
 c_id=5369
METHOD:PUBLISH
END:VEVENT
END:VCALENDAR