BEGIN:VCALENDAR
VERSION:2.0
PRODID:spatie/icalendar-generator
DESCRIPTION:Events from Outdoor-Pursuits
X-WR-CALDESC:Events from Outdoor-Pursuits
REFRESH-INTERVAL;VALUE=DURATION:PT1440M
X-PUBLISHED-TTL:PT1440M
BEGIN:VTIMEZONE
TZID:Etc/GMT+0
BEGIN:STANDARD
DTSTART:20251008T080000Z
TZOFFSETFROM:+0000
TZOFFSETTO:+0000
END:STANDARD
END:VTIMEZONE
BEGIN:VTIMEZONE
TZID:UTC
BEGIN:STANDARD
DTSTART:20250726T082338Z
TZOFFSETFROM:+0000
TZOFFSETTO:+0000
END:STANDARD
END:VTIMEZONE
BEGIN:VEVENT
UID:5141-21
DTSTAMP:20260422T082338Z
SUMMARY:44th Top of Ohio Hundred (TOOH) (Sunday)
LOCATION:Hilliard Municipal Park 3800 Veterans Memorial Dr  Hilliard  Ohio 
 43026
ORGANIZER;CN=Gary Hill:MAILTO:garyvhill@gmail.com
DTSTART;TZID=Etc/GMT+0:20260705T080000
DTEND;TZID=Etc/GMT+0:20260705T110000
X-ALT-DESC;FMTTYPE=TEXT/HTML:44th Top of Ohio Hundred (TOOH) (Sunday) We of
 fer many mileage options across seven routes! Hilliard start - 22\, 45\, 7
 7\, 85\, and 100 miles Milford Center Start - 34 and 58 miles A great ride
  for your summer training season that visits Logan County\, full of early 
 Ohio historical sites. This ride offers varied&amp;hellip\;
CATEGORIES:All Events,  Weekly
URL;VALUE=URI:https://outdoor-pursuits.org/mc-events/44th-top-of-ohio-hundr
 ed-tooh-sunday/
METHOD:PUBLISH
END:VEVENT
END:VCALENDAR