BEGIN:VCALENDAR
VERSION:2.0
PRODID:spatie/icalendar-generator
DESCRIPTION:Events from Outdoor-Pursuits
X-WR-CALDESC:Events from Outdoor-Pursuits
REFRESH-INTERVAL;VALUE=DURATION:PT1440M
X-PUBLISHED-TTL:PT1440M
BEGIN:VTIMEZONE
TZID:Etc/GMT+0
BEGIN:STANDARD
DTSTART:20251216T080000Z
TZOFFSETFROM:+0000
TZOFFSETTO:+0000
END:STANDARD
END:VTIMEZONE
BEGIN:VTIMEZONE
TZID:UTC
BEGIN:STANDARD
DTSTART:20250725T172618Z
TZOFFSETFROM:+0000
TZOFFSETTO:+0000
END:STANDARD
END:VTIMEZONE
BEGIN:VEVENT
UID:5139-24
DTSTAMP:20260421T172618Z
SUMMARY:41st Annual Covered Bridge Tour
LOCATION:Cyclist Connection 200 Winchester Cemetery Rd  Canal Winchester  O
 hio 43110
ORGANIZER;CN=Gary Hill:MAILTO:garyvhill@gmail.com
DTSTART;TZID=Etc/GMT+0:20260912T080000
DTEND;TZID=Etc/GMT+0:20260912T170000
X-ALT-DESC;FMTTYPE=TEXT/HTML:41st Annual Covered Bridge Tour Our popular Co
 vered Bridge Tour is a very good training ride for Fall events!  Yes\, t
 here are mileage options: we offer three routes of 34\, 62\, or 96 miles\,
  with elevation gains of 1200\, 2800\, and 4000 ft\, respectively. A summe
 r of riding has made you strong\, so you can do&amp;hellip\;
CATEGORIES:All Events,  Weekly
URL;VALUE=URI:https://outdoor-pursuits.org/mc-events/41st-annual-covered-br
 idge-tour/
METHOD:PUBLISH
END:VEVENT
END:VCALENDAR